BEGIN:VCALENDAR
VERSION:2.0
PRODID:-//hacksw/handcal//NONSGML v1.0//EN
BEGIN:VEVENT
SUMMARY:Meeting des maitres
UID:43dd3a1e-6e51-45ea-9e93-f22f049715fb
DTSTART:20260418T220000Z
DTEND:20260419T220000Z
LOCATION:Localisation piscine  cahors
CATEGORIES:Sportif
STATUS:
URL;VALUE=URI:https://www.cnbrive.fr/evenements/2026/04/19/meeting-des-maitres-2443049
END:VEVENT
END:VCALENDAR
