BEGIN:VCALENDAR
VERSION:2.0
PRODID:-//hacksw/handcal//NONSGML v1.0//EN
BEGIN:VEVENT
SUMMARY:Championnats de France de natation en eau libre
UID:a74392ad-566e-4e46-962c-0555f0c2fc07
DTSTART:20260604T220000Z
DTEND:20260607T220000Z
LOCATION:Localisation Base Nautique  Lissac sur Couze
CATEGORIES:Sportif
STATUS:
URL;VALUE=URI:https://www.cnbrive.fr/evenements/2026/06/05/championnats-de-france-de-natation-en-eau-libre-2425951
END:VEVENT
END:VCALENDAR
